BEGIN:VCALENDAR
VERSION:2.0
PRODID:-//Mad River Valley Chamber of Commerce - ECPv6.15.11//NONSGML v1.0//EN
CALSCALE:GREGORIAN
METHOD:PUBLISH
X-ORIGINAL-URL:https://madrivervalley.com
X-WR-CALDESC:Events for Mad River Valley Chamber of Commerce
REFRESH-INTERVAL;VALUE=DURATION:PT1H
X-Robots-Tag:noindex
X-PUBLISHED-TTL:PT1H
BEGIN:VTIMEZONE
TZID:America/New_York
BEGIN:DAYLIGHT
TZOFFSETFROM:-0500
TZOFFSETTO:-0400
TZNAME:EDT
DTSTART:20250309T070000
END:DAYLIGHT
BEGIN:STANDARD
TZOFFSETFROM:-0400
TZOFFSETTO:-0500
TZNAME:EST
DTSTART:20251102T060000
END:STANDARD
BEGIN:DAYLIGHT
TZOFFSETFROM:-0500
TZOFFSETTO:-0400
TZNAME:EDT
DTSTART:20260308T070000
END:DAYLIGHT
BEGIN:STANDARD
TZOFFSETFROM:-0400
TZOFFSETTO:-0500
TZNAME:EST
DTSTART:20261101T060000
END:STANDARD
BEGIN:DAYLIGHT
TZOFFSETFROM:-0500
TZOFFSETTO:-0400
TZNAME:EDT
DTSTART:20270314T070000
END:DAYLIGHT
BEGIN:STANDARD
TZOFFSETFROM:-0400
TZOFFSETTO:-0500
TZNAME:EST
DTSTART:20271107T060000
END:STANDARD
END:VTIMEZONE
BEGIN:VEVENT
DTSTART;VALUE=DATE:20260412
DTEND;VALUE=DATE:20260413
DTSTAMP:20260422T130928
CREATED:20260113T165711Z
LAST-MODIFIED:20260113T165711Z
UID:10053630-1775952000-1776038399@madrivervalley.com
SUMMARY:2026 Mad River Triathlon
DESCRIPTION:The Mad River Triathlon is back!! Mark your calendars for the most exciting event of mud season\, a four-sport triathlon celebrating the beauty of our valley and raising funds to benefit four local conservation and recreation nonprofits. \nParticipants can enter as an individual\, team racing together\, relay team\, or just for certain legs. The course consists of a 6 mile run\, 6 mile paddle down the Mad River\, 10 mile bike\, and 2-3 mile ski tour up and down Mount Ellen. Stick around for the after party at Mount Ellen to cheer on finishers with live music\, awards ceremony\, raffle\, and silent auction.
URL:https://madrivervalley.com/event/2026-mad-river-triathlon/
LOCATION:Mount Ellen\, Mount Ellen
CATEGORIES:Special Events,Sports & Recreation
ATTACH;FMTTYPE=image/png:https://madrivervalley.com/wp-content/uploads/2026/01/MRT_CircleLogo-Brown.png
END:VEVENT
BEGIN:VEVENT
DTSTART;TZID=America/New_York:20260330T170000
DTEND;TZID=America/New_York:20260330T200000
DTSTAMP:20260422T130928
CREATED:20260328T161651Z
LAST-MODIFIED:20260328T161733Z
UID:10054599-1774890000-1774900800@madrivervalley.com
SUMMARY:MRVBC end of season pop up tour and tailgate!
DESCRIPTION:We’ve nailed down the date – this Monday March 30 – so grab your sunscreen and skins for one last hurrah! We’ll pop up the MRVBC tent and fire up the grill to serve up some burgers and dogs – you bring your friends\, stories\, and stoke. \nThis will be a great chance to hear about all that MRVBC has going on: a new BC zone\, a new youth program\, our slot at Lawson’s as a SIP recipient\, and of course all the events and workshops we will serve up again next year.  Want to get involved or give feedback to help us shape sustainable human powered winter recreation??  Come on out and hang with us!  If you plan to join the group on the uphill tour\, please email Keith  (Keith Berkelhamer berkelhamerkeith@gmail.com) for the details.  Otherwise just show up in the parking lot starting around 5pm. \nAnd a huge shout out to Sugarbush\, one of our amazing sponsors who has supported and hosted so many of our events season over season!
URL:https://madrivervalley.com/event/mrvbc-end-of-season-pop-up-tour-and-tailgate/
LOCATION:Mount Ellen\, Mount Ellen
CATEGORIES:Sports & Recreation
ATTACH;FMTTYPE=image/jpeg:https://madrivervalley.com/wp-content/uploads/2026/03/Tailgate-Party-Poster.jpg
ORGANIZER;CN="Mad River Valley Backcountry Coalition (MRVBC)":MAILTO:info@mrvbc.org
END:VEVENT
END:VCALENDAR