BEGIN:VCALENDAR
VERSION:2.0
PRODID:-//Mad River Valley Chamber of Commerce - ECPv6.15.11//NONSGML v1.0//EN
CALSCALE:GREGORIAN
METHOD:PUBLISH
X-ORIGINAL-URL:https://madrivervalley.com
X-WR-CALDESC:Events for Mad River Valley Chamber of Commerce
REFRESH-INTERVAL;VALUE=DURATION:PT1H
X-Robots-Tag:noindex
X-PUBLISHED-TTL:PT1H
BEGIN:VTIMEZONE
TZID:America/New_York
BEGIN:DAYLIGHT
TZOFFSETFROM:-0500
TZOFFSETTO:-0400
TZNAME:EDT
DTSTART:20250309T070000
END:DAYLIGHT
BEGIN:STANDARD
TZOFFSETFROM:-0400
TZOFFSETTO:-0500
TZNAME:EST
DTSTART:20251102T060000
END:STANDARD
BEGIN:DAYLIGHT
TZOFFSETFROM:-0500
TZOFFSETTO:-0400
TZNAME:EDT
DTSTART:20260308T070000
END:DAYLIGHT
BEGIN:STANDARD
TZOFFSETFROM:-0400
TZOFFSETTO:-0500
TZNAME:EST
DTSTART:20261101T060000
END:STANDARD
BEGIN:DAYLIGHT
TZOFFSETFROM:-0500
TZOFFSETTO:-0400
TZNAME:EDT
DTSTART:20270314T070000
END:DAYLIGHT
BEGIN:STANDARD
TZOFFSETFROM:-0400
TZOFFSETTO:-0500
TZNAME:EST
DTSTART:20271107T060000
END:STANDARD
END:VTIMEZONE
BEGIN:VEVENT
DTSTART;TZID=America/New_York:20260423T130000
DTEND;TZID=America/New_York:20260423T140000
DTSTAMP:20260424T095504
CREATED:20260303T210422Z
LAST-MODIFIED:20260303T210541Z
UID:10054447-1776949200-1776952800@madrivervalley.com
SUMMARY:Romance Writing Workshop
DESCRIPTION:Local Mad River Romance author\, will lead the three week workshop. \nParticipants will discover more about the “romance” genre\, recognize the major beats necessary. discuss typical tropes and work on a short romance-based story. \nPre-registration is encouraged.\n–
URL:https://madrivervalley.com/event/romance-writing-workshop/2026-04-23/
LOCATION:Joslin Memorial Library\, 4391 Main Street\, Waitsfield\, 05673
CATEGORIES:Arts & Entertainment
ATTACH;FMTTYPE=image/png:https://madrivervalley.com/wp-content/uploads/2026/03/ROMANCE-WRITING.png
ORGANIZER;CN="Joslin Memorial Library":MAILTO:programs@joslinmemoriallibrary.com
GEO:44.190205;-72.82408
X-APPLE-STRUCTURED-LOCATION;VALUE=URI;X-ADDRESS=Joslin Memorial Library 4391 Main Street Waitsfield 05673;X-APPLE-RADIUS=500;X-TITLE=4391 Main Street:geo:-72.82408,44.190205
END:VEVENT
BEGIN:VEVENT
DTSTART;TZID=America/New_York:20260416T130000
DTEND;TZID=America/New_York:20260416T140000
DTSTAMP:20260424T095504
CREATED:20260303T210422Z
LAST-MODIFIED:20260303T210541Z
UID:10054446-1776344400-1776348000@madrivervalley.com
SUMMARY:Romance Writing Workshop
DESCRIPTION:Local Mad River Romance author\, will lead the three week workshop. \nParticipants will discover more about the “romance” genre\, recognize the major beats necessary. discuss typical tropes and work on a short romance-based story. \nPre-registration is encouraged.\n–
URL:https://madrivervalley.com/event/romance-writing-workshop/2026-04-16/
LOCATION:Joslin Memorial Library\, 4391 Main Street\, Waitsfield\, 05673
CATEGORIES:Arts & Entertainment
ATTACH;FMTTYPE=image/png:https://madrivervalley.com/wp-content/uploads/2026/03/ROMANCE-WRITING.png
ORGANIZER;CN="Joslin Memorial Library":MAILTO:programs@joslinmemoriallibrary.com
GEO:44.190205;-72.82408
X-APPLE-STRUCTURED-LOCATION;VALUE=URI;X-ADDRESS=Joslin Memorial Library 4391 Main Street Waitsfield 05673;X-APPLE-RADIUS=500;X-TITLE=4391 Main Street:geo:-72.82408,44.190205
END:VEVENT
BEGIN:VEVENT
DTSTART;TZID=America/New_York:20260409T130000
DTEND;TZID=America/New_York:20260409T140000
DTSTAMP:20260424T095504
CREATED:20260303T210422Z
LAST-MODIFIED:20260303T210541Z
UID:10054444-1775739600-1775743200@madrivervalley.com
SUMMARY:Romance Writing Workshop
DESCRIPTION:Local Mad River Romance author\, will lead the three week workshop. \nParticipants will discover more about the “romance” genre\, recognize the major beats necessary. discuss typical tropes and work on a short romance-based story. \nPre-registration is encouraged.\n–
URL:https://madrivervalley.com/event/romance-writing-workshop/2026-04-09/
LOCATION:Joslin Memorial Library\, 4391 Main Street\, Waitsfield\, 05673
CATEGORIES:Arts & Entertainment
ATTACH;FMTTYPE=image/png:https://madrivervalley.com/wp-content/uploads/2026/03/ROMANCE-WRITING.png
ORGANIZER;CN="Joslin Memorial Library":MAILTO:programs@joslinmemoriallibrary.com
GEO:44.190205;-72.82408
X-APPLE-STRUCTURED-LOCATION;VALUE=URI;X-ADDRESS=Joslin Memorial Library 4391 Main Street Waitsfield 05673;X-APPLE-RADIUS=500;X-TITLE=4391 Main Street:geo:-72.82408,44.190205
END:VEVENT
END:VCALENDAR