BEGIN:VCALENDAR
VERSION:2.0
PRODID:-//Mad River Valley Chamber of Commerce - ECPv6.15.11//NONSGML v1.0//EN
CALSCALE:GREGORIAN
METHOD:PUBLISH
X-ORIGINAL-URL:https://madrivervalley.com
X-WR-CALDESC:Events for Mad River Valley Chamber of Commerce
REFRESH-INTERVAL;VALUE=DURATION:PT1H
X-Robots-Tag:noindex
X-PUBLISHED-TTL:PT1H
BEGIN:VTIMEZONE
TZID:America/New_York
BEGIN:DAYLIGHT
TZOFFSETFROM:-0500
TZOFFSETTO:-0400
TZNAME:EDT
DTSTART:20250309T070000
END:DAYLIGHT
BEGIN:STANDARD
TZOFFSETFROM:-0400
TZOFFSETTO:-0500
TZNAME:EST
DTSTART:20251102T060000
END:STANDARD
BEGIN:DAYLIGHT
TZOFFSETFROM:-0500
TZOFFSETTO:-0400
TZNAME:EDT
DTSTART:20260308T070000
END:DAYLIGHT
BEGIN:STANDARD
TZOFFSETFROM:-0400
TZOFFSETTO:-0500
TZNAME:EST
DTSTART:20261101T060000
END:STANDARD
BEGIN:DAYLIGHT
TZOFFSETFROM:-0500
TZOFFSETTO:-0400
TZNAME:EDT
DTSTART:20270314T070000
END:DAYLIGHT
BEGIN:STANDARD
TZOFFSETFROM:-0400
TZOFFSETTO:-0500
TZNAME:EST
DTSTART:20271107T060000
END:STANDARD
END:VTIMEZONE
BEGIN:VEVENT
DTSTART;TZID=America/New_York:20260507T183000
DTEND;TZID=America/New_York:20260507T203000
DTSTAMP:20260422T095106
CREATED:20260415T185913Z
LAST-MODIFIED:20260415T185913Z
UID:10054662-1778178600-1778185800@madrivervalley.com
SUMMARY:Called To Duty
DESCRIPTION:Thursday\, May 7th @ 6:30pm Please join us for this amazing documentary honoring the lives of Terry Brown and Dana Fuller\, two firefighters who made the ultimate sacrifice in the line of duty. Followed by a discussion and Q&A with your local fire department.\nAbout the film\nPlease join us for this amazing documentary to honor the lives of Terry Brown and Dana Fuller. This film will leave you with a deep appreciation for their ultimate sacrifice\, but also for the potential sacrifice that all firefighters are willing to accept in their duties. To protect life and property is a Firefighter’s duty. On December 29\, 1981\, at 6:12 pm\, Terry Brown and Dana Fuller were called to duty when a fire erupted at the Star Hotel in Bellows Falls\, Vermont. Using never before seen archival photos\, the producers Mike Smith\, Sue Smith\, Marty Gallagher\, and Alex Stradling tell the stories of the night of the Star Hotel Fire; the rescues of the occupants trapped by the fire\, the bravery of the firefighters\, the leadership challenge of the new Fire Chief\, and the tragic loss of two young men. \nAdditional Information\nAll entry donations will be given to Memorial Park in Bellows Falls\, VT\, to aid in the maintenance and desired improvements. The park was constructed to honor the lives of the fallen firefighters.\nThere will be local fire department representatives and members from the film available to discuss the film\, answer questions\, and reflect.\nThis film is sponsored by YOUR local fire department members\, and all entry fees will be on a “pay as you can ” basis.
URL:https://madrivervalley.com/event/called-to-duty/
LOCATION:Big Picture Theater\, 44 Carroll Road\, Waitsfield\, 05673
CATEGORIES:Arts & Entertainment,Community
ATTACH;FMTTYPE=image/png:https://madrivervalley.com/wp-content/uploads/2026/04/Screenshot-2026-04-13-at-10.01.03-AM.png
ORGANIZER;CN="Big Picture Theater":MAILTO:beths@madriver.com
GEO:44.1874779;-72.8335286
X-APPLE-STRUCTURED-LOCATION;VALUE=URI;X-ADDRESS=Big Picture Theater 44 Carroll Road Waitsfield 05673;X-APPLE-RADIUS=500;X-TITLE=44 Carroll Road:geo:-72.8335286,44.1874779
END:VEVENT
END:VCALENDAR