BEGIN:VCALENDAR
VERSION:2.0
PRODID:-//Mad River Valley Chamber of Commerce - ECPv6.15.11//NONSGML v1.0//EN
CALSCALE:GREGORIAN
METHOD:PUBLISH
X-WR-CALNAME:Mad River Valley Chamber of Commerce
X-ORIGINAL-URL:https://madrivervalley.com
X-WR-CALDESC:Events for Mad River Valley Chamber of Commerce
REFRESH-INTERVAL;VALUE=DURATION:PT1H
X-Robots-Tag:noindex
X-PUBLISHED-TTL:PT1H
BEGIN:VTIMEZONE
TZID:America/New_York
BEGIN:DAYLIGHT
TZOFFSETFROM:-0500
TZOFFSETTO:-0400
TZNAME:EDT
DTSTART:20250309T070000
END:DAYLIGHT
BEGIN:STANDARD
TZOFFSETFROM:-0400
TZOFFSETTO:-0500
TZNAME:EST
DTSTART:20251102T060000
END:STANDARD
BEGIN:DAYLIGHT
TZOFFSETFROM:-0500
TZOFFSETTO:-0400
TZNAME:EDT
DTSTART:20260308T070000
END:DAYLIGHT
BEGIN:STANDARD
TZOFFSETFROM:-0400
TZOFFSETTO:-0500
TZNAME:EST
DTSTART:20261101T060000
END:STANDARD
BEGIN:DAYLIGHT
TZOFFSETFROM:-0500
TZOFFSETTO:-0400
TZNAME:EDT
DTSTART:20270314T070000
END:DAYLIGHT
BEGIN:STANDARD
TZOFFSETFROM:-0400
TZOFFSETTO:-0500
TZNAME:EST
DTSTART:20271107T060000
END:STANDARD
END:VTIMEZONE
BEGIN:VEVENT
DTSTART;TZID=America/New_York:20260401T160000
DTEND;TZID=America/New_York:20260527T203000
DTSTAMP:20260424T082415
CREATED:20260328T162033Z
LAST-MODIFIED:20260328T162033Z
UID:10054597-1775059200-1779913800@madrivervalley.com
SUMMARY:Ski You Wednesday — Mad River Glen Passholder Night
DESCRIPTION:As a thank you to the Mad River Glen season passholders Every Wednesday in April and May\, get 10% off all food. \nIt’s our midweek nod to the Single Chair faithful as we shift from powder turns to spring adventures. \nMake sure you bring your pass and show to your server to get the discount.
URL:https://madrivervalley.com/event/ski-you-wednesday-mad-river-glen-passholder-night/
LOCATION:Déco Restaurant and Bar\, 203 Powderhound Rd\, Warren\, 05674\, United States
CATEGORIES:Aprés,Food & Drink
ATTACH;FMTTYPE=image/jpeg:https://madrivervalley.com/wp-content/uploads/2026/03/compressedImage-23.jpg
END:VEVENT
BEGIN:VEVENT
DTSTART;TZID=America/New_York:20260416T193000
DTEND;TZID=America/New_York:20260426T140000
DTSTAMP:20260424T082416
CREATED:20260328T163551Z
LAST-MODIFIED:20260328T163551Z
UID:10054596-1776367800-1777212000@madrivervalley.com
SUMMARY:OUR TOWN (FOR OUR COMMUNITY)
DESCRIPTION:Experience Thornton Wilder’s Pulitzer Prize and Tony Winner up close and personal. \nSurprisingly modern\, ordinary moments become unforgettable in Our Town.This beloved American classic wowed Broadway audiences as recently as 2024! \nOur production of this funny & touching masterwork features local actors and ‘characters’ – some of whom may have been “born to play the part.” Join LNT founder Kim Bent as The Stage Manager George Woodard as the Milkman\, Bill Pelton as the choirmaster and many more wonderful artists & community members. Our Town is humorous\, poignant\, and profound. It may be just the thing we need now. \nCOST: $15 – $44\, depending on day/type of ticket. Center reserved guarantee seats available for additional fee.\nINFO & TICKETS: WWW.LOSTNATIONTHEATER.ORG\nCity Hall’s elevator inoperable\, requiring patrons to climb 37 total steps to attend in person. The play will be available digitally to make the show accessible for those unable to physically join us. Call (802-229-0492) or email info@lostnationtheater.org to discuss alternative viewing options. \nSPONSORS: City of Montpelier\, Greenway Institute\, Eternity\, The Estate of Ted Richards\, The Mary Shriver Fund of the Alan Weiss Estate\, The Point -FM! \nABOUT LNT: Lost Nation Theater winner “Theater of the Decade” – Broadway World (2020);\n“Best of New England”\, Yankee Magazine\, was named “One of the Best regional theaters in America” by the New York Drama League\, “Outstanding Achievement Award” – New England Theatre Conference; and has won multiple People’s Choice “Best Theater” awards from Seven Days and The Times Argus.
URL:https://madrivervalley.com/event/our-town-for-our-community/
LOCATION:Lost Nation Theater\, 39 Main Street\, Montpelier\, 05602
CATEGORIES:Arts & Entertainment
ATTACH;FMTTYPE=image/png:https://madrivervalley.com/wp-content/uploads/2026/03/2026-Web-Cover-OUr-Town-6.67-x-8-in.9e05cb05.31712343.png
ORGANIZER;CN="Lost Nation Theater":MAILTO:boxoffice@lostnationtheater.org
END:VEVENT
BEGIN:VEVENT
DTSTART;TZID=America/New_York:20260417T090000
DTEND;TZID=America/New_York:20260531T170000
DTSTAMP:20260424T082416
CREATED:20260408T204907Z
LAST-MODIFIED:20260408T204907Z
UID:10054647-1776416400-1780246800@madrivervalley.com
SUMMARY:Saving Summer Spring Sales Event
DESCRIPTION:The Save Your Summer – Spring Sales Event is your opportunity to get ahead of the boating season with exclusive spring pricing on pontoons\, fishing boats\, runabouts\, and personal watercraft. With strong inventory\, limited-time savings\, and over 65 years of trusted experience\, our team will help you find the right boat for Vermont lakes. \nSecure your setup early and enjoy more time on the water this summer.
URL:https://madrivervalley.com/event/saving-summer-spring-sales-event/
LOCATION:Woodard  Marine\, 53 East Creek Dr.\, Castleton\, Vermont\, 05750\, United States
CATEGORIES:Sports & Recreation
ATTACH;FMTTYPE=image/jpeg:https://madrivervalley.com/wp-content/uploads/2026/04/WM26_SpringSaleSocial_1080x1080.jpg
ORGANIZER;CN="Woodard Marine":MAILTO:info@woodardmarine.com
END:VEVENT
BEGIN:VEVENT
DTSTART;TZID=America/New_York:20260420T120000
DTEND;TZID=America/New_York:20260420T200000
DTSTAMP:20260424T082416
CREATED:20260322T211536Z
LAST-MODIFIED:20260420T225949Z
UID:10054563-1776686400-1776715200@madrivervalley.com
SUMMARY:MadLove Mondays
DESCRIPTION:About the Event\n– $5 pours of all our draft beers all day \n– Mac and cheese specials\n– Double your Toast loyalty points\n– 20% off cases of beer in our retail shop\n– Our favorite recorded live shows over the speakers. Have a favorite? Let us know! \nAlso! Monthly artist spotlights and community features. \n \n \n\n\n\n\n                  Details\n                 \n\n                    Date: Time: \n                   \n \n \n\n\n\n                  Organizer\n                 \n \n \n\n\n\n                  Venue\n                 \n \n \n \n\n\n\n     \n      Add to Calendar\n     \n\n      \n        \n        Google Calendar\n      \n      \n        \n        Outlook\n      \n      \n        \n        Yahoo Calendar\n      \n      \n        \n        Download (.ics)
URL:https://madrivervalley.com/event/madlove-mondays-27/
LOCATION:Lawson’s Finest Taproom\, 155 Carroll Rd\, Waitsfield\, VT\, 05673\, United States
CATEGORIES:Taproom Events
ATTACH;FMTTYPE=image/jpeg:https://madrivervalley.com/wp-content/uploads/2025/12/katielo-COMINGHOME-Lawsons-3446-scaled-e1764863963844-N4UfGC.jpg
ORGANIZER;CN="Lawson&#8217%3Bs Finest Liquids":MAILTO:hello@lawsonsfinest.com
END:VEVENT
BEGIN:VEVENT
DTSTART;TZID=America/New_York:20260420T170000
DTEND;TZID=America/New_York:20260420T190000
DTSTAMP:20260424T082416
CREATED:20260220T154139Z
LAST-MODIFIED:20260220T154139Z
UID:10053865-1776704400-1776711600@madrivervalley.com
SUMMARY:Winter Golf Clinic at the SHaRC
DESCRIPTION:Sharpen Your Swing This Winter with PGA Pro Roger King! Take your golf game to the next level—even when the snow falls! Join PGA Pro Roger King at the SIM Suites in the SHaRC for exclusive winter golf lessons. Using state-of-the-art simulators\, you’ll get personalized tips and real-time feedback to improve your swing\, accuracy\, and overall game.2026 Winter Golf Clinic Dates:January:   12\, 26February: 9\, 23March: 9\, 23April: 6\, 20Time:5 PM – 7 PMCost:$50 per sessionCall the SHaRC at 802-583-6700 for more information.
URL:https://madrivervalley.com/event/winter-golf-clinic-at-the-sharc-5/
LOCATION:SIM Suites\, SHaRC
CATEGORIES:Sugarbush
ATTACH;FMTTYPE=image/jpeg:https://madrivervalley.com/wp-content/uploads/2025/01/golf-clinics.jpg
END:VEVENT
END:VCALENDAR